BEGIN:VCALENDAR
VERSION:2.0
BEGIN:VEVENT
UID:98df8076e68c12796d05e195fb82d44d
DTSTAMP:20260421T092801Z
DTSTART:20240316T120000Z
DTEND:20240316T173000Z
SUMMARY:Foundation Lunch 2024
DESCRIPTION:<p style=\"-webkit-text-stroke-width:0px;background-color:rgb(255, 255, 255);box-sizing:border-box;color:rgb(115, 115, 115);font-family:Tinos, serif;font-size:18px;font-style:normal;font-variant-caps:normal;font-variant-ligatures:normal;font-weight:400;letter-spacing:normal;line-height:1.5;margin:0px;orphans:2;padding:0px;text-align:left;text-decoration-color:initial;text-decoration-style:initial;text-decoration-thickness:initial;text-indent:0px;text-transform:none;white-space:normal;widows:2;word-spacing:0px;\">&nbsp;</p><p style=\"-webkit-text-stroke-width:0px;background-color:rgb(255, 255, 255);box-sizing:border-box;color:rgb(115, 115, 115);font-family:Tinos, serif;font-size:18px;font-style:normal;font-variant-caps:normal;font-variant-ligatures:normal;font-weight:400;letter-spacing:normal;line-height:1.5;margin:0px 0px 20px;orphans:2;padding:0px;text-align:left;text-decoration-color:initial;text-decoration-style:initial;text-decoration-thickness:initial;text-indent:0px;text-transform:none;white-space:normal;widows:2;word-spacing:0px;\">We are delighted to welcome Members who matriculated in and before 1974 to&nbsp;the annual Foundation Lunch&nbsp;on <strong style=\"box-sizing:border-box;margin:0px;padding:0px;\">Saturday, 16th March 2024.</strong>&nbsp;</p><p style=\"-webkit-text-stroke-width:0px;background-color:rgb(255, 255, 255);box-sizing:border-box;color:rgb(115, 115, 115);font-family:Tinos, serif;font-size:18px;font-style:normal;font-variant-caps:normal;font-variant-ligatures:normal;font-weight:400;letter-spacing:normal;line-height:1.5;margin:0px 0px 20px;orphans:2;padding:0px;text-align:left;text-decoration-color:initial;text-decoration-style:initial;text-decoration-thickness:initial;text-indent:0px;text-transform:none;white-space:normal;widows:2;word-spacing:0px;\">For further details on the Foundation Lunch please visit the <a href=\"https://www.kings.cam.ac.uk/event/2024/foundation-lunch-2024\"><strong>event webpage.</strong></a></p><p><br>&nbsp;</p><p>&nbsp;</p>
LOCATION:king_s_college_various_locations
END:VEVENT
END:VCALENDAR
