BEGIN:VCALENDAR
VERSION:2.0
BEGIN:VEVENT
UID:cf8f6634df559b0410ad8f3d06c4632a
DTSTAMP:20260420T234556Z
DTSTART:20240601T110000Z
DTEND:20240601T143000Z
SUMMARY:10th Anniversary Reunion Lunch (2014)
DESCRIPTION:<p style=\"-webkit-text-stroke-width:0px;background-color:rgb(255, 255, 255);box-sizing:border-box;color:rgb(115, 115, 115);font-family:Tinos, serif;font-size:18px;font-style:normal;font-variant-caps:normal;font-variant-ligatures:normal;font-weight:400;letter-spacing:normal;line-height:1.5;margin:0px 0px 20px;orphans:2;padding:0px;text-align:left;text-decoration-color:initial;text-decoration-style:initial;text-decoration-thickness:initial;text-indent:0px;text-transform:none;white-space:normal;widows:2;word-spacing:0px;\">King’s College <span style=\"-webkit-text-stroke-width:0px;background-color:rgb(255, 255, 255);color:rgb(115, 115, 115);display:inline !important;float:none;font-family:Tinos, serif;font-size:18px;font-style:normal;font-variant-caps:normal;font-variant-ligatures:normal;font-weight:400;letter-spacing:normal;orphans:2;text-align:left;text-decoration-color:initial;text-decoration-style:initial;text-decoration-thickness:initial;text-indent:0px;text-transform:none;white-space:normal;widows:2;word-spacing:0px;\">is delighted to invite Members&nbsp;from the class of&nbsp;</span><strong style=\"-webkit-text-stroke-width:0px;background-color:rgb(255, 255, 255);box-sizing:border-box;color:rgb(115, 115, 115);font-family:Tinos, serif;font-size:18px;font-style:normal;font-variant-caps:normal;font-variant-ligatures:normal;letter-spacing:normal;margin:0px;orphans:2;padding:0px;text-align:left;text-decoration-color:initial;text-decoration-style:initial;text-decoration-thickness:initial;text-indent:0px;text-transform:none;white-space:normal;widows:2;word-spacing:0px;\">2014</strong><span style=\"-webkit-text-stroke-width:0px;background-color:rgb(255, 255, 255);color:rgb(115, 115, 115);display:inline !important;float:none;font-family:Tinos, serif;font-size:18px;font-style:normal;font-variant-caps:normal;font-variant-ligatures:normal;font-weight:400;letter-spacing:normal;orphans:2;text-align:left;text-decoration-color:initial;text-decoration-style:initial;text-decoration-thickness:initial;text-indent:0px;text-transform:none;white-space:normal;widows:2;word-spacing:0px;\">&nbsp;to the College on&nbsp;</span><strong style=\"-webkit-text-stroke-width:0px;background-color:rgb(255, 255, 255);box-sizing:border-box;color:rgb(115, 115, 115);font-family:Tinos, serif;font-size:18px;font-style:normal;font-variant-caps:normal;font-variant-ligatures:normal;letter-spacing:normal;margin:0px;orphans:2;padding:0px;text-align:left;text-decoration-color:initial;text-decoration-style:initial;text-decoration-thickness:initial;text-indent:0px;text-transform:none;white-space:normal;widows:2;word-spacing:0px;\">Saturday, 1&nbsp;June</strong><span style=\"-webkit-text-stroke-width:0px;background-color:rgb(255, 255, 255);color:rgb(115, 115, 115);display:inline !important;float:none;font-family:Tinos, serif;font-size:18px;font-style:normal;font-variant-caps:normal;font-variant-ligatures:normal;font-weight:400;letter-spacing:normal;orphans:2;text-align:left;text-decoration-color:initial;text-decoration-style:initial;text-decoration-thickness:initial;text-indent:0px;text-transform:none;white-space:normal;widows:2;word-spacing:0px;\">&nbsp;to celebrate their 10th anniversary since matriculation.</span></p><p style=\"-webkit-text-stroke-width:0px;background-color:rgb(255, 255, 255);box-sizing:border-box;color:rgb(115, 115, 115);font-family:Tinos, serif;font-size:18px;font-style:normal;font-variant-caps:normal;font-variant-ligatures:normal;font-weight:400;letter-spacing:normal;line-height:1.5;margin:0px 0px 20px;orphans:2;padding:0px;text-align:left;text-decoration-color:initial;text-decoration-style:initial;text-decoration-thickness:initial;text-indent:0px;text-transform:none;white-space:normal;widows:2;word-spacing:0px;\">For further information on the 10th Anniversary Lunch please visit the <a href=\"https://www.kings.cam.ac.uk/event/10th-anniversary-reunion-lunch-2014\"><strong>event webpage.</strong></a></p>
LOCATION:saltmarsh_suite
END:VEVENT
END:VCALENDAR
